BEGIN:VCALENDAR
VERSION:2.0
PRODID:-//St Joan of Arc Roman Catholic Primary School - ECPv6.15.14//NONSGML v1.0//EN
CALSCALE:GREGORIAN
METHOD:PUBLISH
X-WR-CALNAME:St Joan of Arc Roman Catholic Primary School
X-ORIGINAL-URL:https://www.st-joanofarc.islington.sch.uk
X-WR-CALDESC:Events for St Joan of Arc Roman Catholic Primary School
REFRESH-INTERVAL;VALUE=DURATION:PT1H
X-Robots-Tag:noindex
X-PUBLISHED-TTL:PT1H
BEGIN:VTIMEZONE
TZID:Europe/London
BEGIN:DAYLIGHT
TZOFFSETFROM:+0000
TZOFFSETTO:+0100
TZNAME:BST
DTSTART:20220327T010000
END:DAYLIGHT
BEGIN:STANDARD
TZOFFSETFROM:+0100
TZOFFSETTO:+0000
TZNAME:GMT
DTSTART:20221030T010000
END:STANDARD
BEGIN:DAYLIGHT
TZOFFSETFROM:+0000
TZOFFSETTO:+0100
TZNAME:BST
DTSTART:20230326T010000
END:DAYLIGHT
BEGIN:STANDARD
TZOFFSETFROM:+0100
TZOFFSETTO:+0000
TZNAME:GMT
DTSTART:20231029T010000
END:STANDARD
BEGIN:DAYLIGHT
TZOFFSETFROM:+0000
TZOFFSETTO:+0100
TZNAME:BST
DTSTART:20240331T010000
END:DAYLIGHT
BEGIN:STANDARD
TZOFFSETFROM:+0100
TZOFFSETTO:+0000
TZNAME:GMT
DTSTART:20241027T010000
END:STANDARD
END:VTIMEZONE
BEGIN:VEVENT
DTSTART;TZID=Europe/London:20230519T083000
DTEND;TZID=Europe/London:20230519T093000
DTSTAMP:20260421T034141
CREATED:20230112T122633Z
LAST-MODIFIED:20230112T122633Z
UID:10000030-1684485000-1684488600@www.st-joanofarc.islington.sch.uk
SUMMARY:SEN Coffee Morning - Bridge Outreach Team Introduction
DESCRIPTION:
URL:https://www.st-joanofarc.islington.sch.uk/event/sen-coffee-morning-bridge-outreach-team-introduction/
CATEGORIES:Nursery,Parents,Reception,Year 1,Year 2,Year 3,Year 4,Year 5,Year 6
END:VEVENT
END:VCALENDAR