BEGIN:VCALENDAR
VERSION:2.0
PRODID:-//St Joan of Arc Roman Catholic Primary School - ECPv6.15.14//NONSGML v1.0//EN
CALSCALE:GREGORIAN
METHOD:PUBLISH
X-ORIGINAL-URL:https://www.st-joanofarc.islington.sch.uk
X-WR-CALDESC:Events for St Joan of Arc Roman Catholic Primary School
REFRESH-INTERVAL;VALUE=DURATION:PT1H
X-Robots-Tag:noindex
X-PUBLISHED-TTL:PT1H
BEGIN:VTIMEZONE
TZID:Europe/London
BEGIN:DAYLIGHT
TZOFFSETFROM:+0000
TZOFFSETTO:+0100
TZNAME:BST
DTSTART:20220327T010000
END:DAYLIGHT
BEGIN:STANDARD
TZOFFSETFROM:+0100
TZOFFSETTO:+0000
TZNAME:GMT
DTSTART:20221030T010000
END:STANDARD
BEGIN:DAYLIGHT
TZOFFSETFROM:+0000
TZOFFSETTO:+0100
TZNAME:BST
DTSTART:20230326T010000
END:DAYLIGHT
BEGIN:STANDARD
TZOFFSETFROM:+0100
TZOFFSETTO:+0000
TZNAME:GMT
DTSTART:20231029T010000
END:STANDARD
BEGIN:DAYLIGHT
TZOFFSETFROM:+0000
TZOFFSETTO:+0100
TZNAME:BST
DTSTART:20240331T010000
END:DAYLIGHT
BEGIN:STANDARD
TZOFFSETFROM:+0100
TZOFFSETTO:+0000
TZNAME:GMT
DTSTART:20241027T010000
END:STANDARD
END:VTIMEZONE
BEGIN:VEVENT
DTSTART;VALUE=DATE:20230402
DTEND;VALUE=DATE:20230403
DTSTAMP:20260421T050046
CREATED:20230112T121048Z
LAST-MODIFIED:20230112T121048Z
UID:10000027-1680393600-1680479999@www.st-joanofarc.islington.sch.uk
SUMMARY:World Autism Day
DESCRIPTION:
URL:https://www.st-joanofarc.islington.sch.uk/event/world-autism-day/
CATEGORIES:Nursery,Parents,Reception,Year 1,Year 2,Year 3,Year 4,Year 5,Year 6
END:VEVENT
BEGIN:VEVENT
DTSTART;TZID=Europe/London:20230417T080000
DTEND;TZID=Europe/London:20230421T150000
DTSTAMP:20260421T050046
CREATED:20230112T121143Z
LAST-MODIFIED:20230112T121222Z
UID:10000028-1681718400-1682089200@www.st-joanofarc.islington.sch.uk
SUMMARY:Year 5 Swimming Lessons at Highbury Pool
DESCRIPTION:
URL:https://www.st-joanofarc.islington.sch.uk/event/year-5-swimming-lessons-at-highbury-pool/
CATEGORIES:Year 5
END:VEVENT
BEGIN:VEVENT
DTSTART;TZID=Europe/London:20230424T080000
DTEND;TZID=Europe/London:20230428T170000
DTSTAMP:20260421T050046
CREATED:20230112T121254Z
LAST-MODIFIED:20230112T121254Z
UID:10000029-1682323200-1682701200@www.st-joanofarc.islington.sch.uk
SUMMARY:Year 5 Swimming Lessons at Highbury Pool
DESCRIPTION:
URL:https://www.st-joanofarc.islington.sch.uk/event/year-5-swimming-lessons-at-highbury-pool-2/
CATEGORIES:Year 5
END:VEVENT
END:VCALENDAR