BEGIN:VCALENDAR
VERSION:2.0
PRODID:-//St Joan of Arc Roman Catholic Primary School - ECPv6.15.14//NONSGML v1.0//EN
CALSCALE:GREGORIAN
METHOD:PUBLISH
X-ORIGINAL-URL:https://www.st-joanofarc.islington.sch.uk
X-WR-CALDESC:Events for St Joan of Arc Roman Catholic Primary School
REFRESH-INTERVAL;VALUE=DURATION:PT1H
X-Robots-Tag:noindex
X-PUBLISHED-TTL:PT1H
BEGIN:VTIMEZONE
TZID:Europe/London
BEGIN:DAYLIGHT
TZOFFSETFROM:+0000
TZOFFSETTO:+0100
TZNAME:BST
DTSTART:20220327T010000
END:DAYLIGHT
BEGIN:STANDARD
TZOFFSETFROM:+0100
TZOFFSETTO:+0000
TZNAME:GMT
DTSTART:20221030T010000
END:STANDARD
BEGIN:DAYLIGHT
TZOFFSETFROM:+0000
TZOFFSETTO:+0100
TZNAME:BST
DTSTART:20230326T010000
END:DAYLIGHT
BEGIN:STANDARD
TZOFFSETFROM:+0100
TZOFFSETTO:+0000
TZNAME:GMT
DTSTART:20231029T010000
END:STANDARD
BEGIN:DAYLIGHT
TZOFFSETFROM:+0000
TZOFFSETTO:+0100
TZNAME:BST
DTSTART:20240331T010000
END:DAYLIGHT
BEGIN:STANDARD
TZOFFSETFROM:+0100
TZOFFSETTO:+0000
TZNAME:GMT
DTSTART:20241027T010000
END:STANDARD
END:VTIMEZONE
BEGIN:VEVENT
DTSTART;TZID=Europe/London:20230303T080000
DTEND;TZID=Europe/London:20230303T170000
DTSTAMP:20260421T063337
CREATED:20230112T124624Z
LAST-MODIFIED:20230223T135907Z
UID:10000044-1677830400-1677862800@www.st-joanofarc.islington.sch.uk
SUMMARY:World Book Day / Readathon Starts - Non-uniform Dress as a book character
DESCRIPTION:
URL:https://www.st-joanofarc.islington.sch.uk/event/world-book-day-readathon-starts-non-uniform-dress-as-a-book-character/
CATEGORIES:Nursery,Parents,Reception,Year 1,Year 2,Year 3,Year 4,Year 5,Year 6
END:VEVENT
BEGIN:VEVENT
DTSTART;TZID=Europe/London:20230303T080000
DTEND;TZID=Europe/London:20230303T170000
DTSTAMP:20260421T063337
CREATED:20230112T124747Z
LAST-MODIFIED:20230112T124747Z
UID:10000046-1677830400-1677862800@www.st-joanofarc.islington.sch.uk
SUMMARY:World Hearing Day
DESCRIPTION:
URL:https://www.st-joanofarc.islington.sch.uk/event/world-hearing-day/
CATEGORIES:Nursery,Parents,Reception,Year 1,Year 2,Year 3,Year 4,Year 5,Year 6
END:VEVENT
BEGIN:VEVENT
DTSTART;TZID=Europe/London:20230303T083000
DTEND;TZID=Europe/London:20230303T093000
DTSTAMP:20260421T063337
CREATED:20230112T124701Z
LAST-MODIFIED:20230112T124701Z
UID:10000045-1677832200-1677835800@www.st-joanofarc.islington.sch.uk
SUMMARY:SEN Coffee Morning  – CAMHS School’s Clinician Introduction
DESCRIPTION:
URL:https://www.st-joanofarc.islington.sch.uk/event/sen-coffee-morning-camhs-schools-clinician-introduction/
CATEGORIES:Nursery,Parents,Reception,Year 1,Year 2,Year 3,Year 4,Year 5,Year 6
END:VEVENT
BEGIN:VEVENT
DTSTART;VALUE=DATE:20230313
DTEND;VALUE=DATE:20230314
DTSTAMP:20260421T063337
CREATED:20230112T124928Z
LAST-MODIFIED:20230112T124928Z
UID:10000049-1678665600-1678751999@www.st-joanofarc.islington.sch.uk
SUMMARY:Science Week
DESCRIPTION:
URL:https://www.st-joanofarc.islington.sch.uk/event/science-week/
CATEGORIES:Nursery,Parents,Reception,Year 1,Year 2,Year 3,Year 4,Year 5,Year 6
END:VEVENT
BEGIN:VEVENT
DTSTART;TZID=Europe/London:20230317T084500
DTEND;TZID=Europe/London:20230317T093000
DTSTAMP:20260421T063337
CREATED:20230112T125127Z
LAST-MODIFIED:20230112T125127Z
UID:10000051-1679042700-1679045400@www.st-joanofarc.islington.sch.uk
SUMMARY:Mass led by Class 4I St Joan of Arc Church - Parents invited
DESCRIPTION:
URL:https://www.st-joanofarc.islington.sch.uk/event/mass-led-by-class-4i-st-joan-of-arc-church-parents-invited/
CATEGORIES:Nursery,Parents,Reception,Year 1,Year 2,Year 3,Year 4,Year 5,Year 6
END:VEVENT
BEGIN:VEVENT
DTSTART;TZID=Europe/London:20230317T150000
DTEND;TZID=Europe/London:20230317T160000
DTSTAMP:20260421T063337
CREATED:20230112T125216Z
LAST-MODIFIED:20230112T125216Z
UID:10000052-1679065200-1679068800@www.st-joanofarc.islington.sch.uk
SUMMARY:St Patrick’s Day Cake Stall organised by Year 5 parents
DESCRIPTION:
URL:https://www.st-joanofarc.islington.sch.uk/event/st-patricks-day-cake-stall-organised-by-year-5-parents/
CATEGORIES:Nursery,Parents,Reception,Year 1,Year 2,Year 3,Year 4,Year 5,Year 6
END:VEVENT
BEGIN:VEVENT
DTSTART;VALUE=DATE:20230321
DTEND;VALUE=DATE:20230322
DTSTAMP:20260421T063337
CREATED:20230112T125344Z
LAST-MODIFIED:20230112T125344Z
UID:10000053-1679356800-1679443199@www.st-joanofarc.islington.sch.uk
SUMMARY:World Down Syndrome Day
DESCRIPTION:
URL:https://www.st-joanofarc.islington.sch.uk/event/world-down-syndrome-day/
CATEGORIES:Nursery,Parents,Reception,Year 1,Year 2,Year 3,Year 4,Year 5,Year 6
END:VEVENT
BEGIN:VEVENT
DTSTART;VALUE=DATE:20230326
DTEND;VALUE=DATE:20230327
DTSTAMP:20260421T063337
CREATED:20230112T130132Z
LAST-MODIFIED:20230112T130132Z
UID:10000056-1679788800-1679875199@www.st-joanofarc.islington.sch.uk
SUMMARY:Purple Day
DESCRIPTION:
URL:https://www.st-joanofarc.islington.sch.uk/event/purple-day/
CATEGORIES:Nursery,Parents,Reception,Year 1,Year 2,Year 3,Year 4,Year 5,Year 6
END:VEVENT
BEGIN:VEVENT
DTSTART;VALUE=DATE:20230329
DTEND;VALUE=DATE:20230330
DTSTAMP:20260421T063337
CREATED:20230112T130217Z
LAST-MODIFIED:20230112T130217Z
UID:10000057-1680048000-1680134399@www.st-joanofarc.islington.sch.uk
SUMMARY:Year 5 Passion Play - 08:45 Parents invited
DESCRIPTION:
URL:https://www.st-joanofarc.islington.sch.uk/event/year-5-passion-play-0845-parents-invited/
CATEGORIES:Parents,Year 5
END:VEVENT
BEGIN:VEVENT
DTSTART;VALUE=DATE:20230331
DTEND;VALUE=DATE:20230401
DTSTAMP:20260421T063337
CREATED:20230112T130411Z
LAST-MODIFIED:20230112T130411Z
UID:10000058-1680220800-1680307199@www.st-joanofarc.islington.sch.uk
SUMMARY:End of term Mass led by Class 3G - 9AM - Parents invited
DESCRIPTION:
URL:https://www.st-joanofarc.islington.sch.uk/event/end-of-term-mass-led-by-class-3g-9am-parents-invited/
CATEGORIES:Nursery,Parents,Reception,Year 1,Year 2,Year 3,Year 4,Year 5,Year 6
END:VEVENT
BEGIN:VEVENT
DTSTART;VALUE=DATE:20230331
DTEND;VALUE=DATE:20230401
DTSTAMP:20260421T063337
CREATED:20230112T130452Z
LAST-MODIFIED:20230112T130452Z
UID:10000059-1680220800-1680307199@www.st-joanofarc.islington.sch.uk
SUMMARY:School closes for Easter Holiday at 1.30pm - There is no Extended School provision Parent SEN Coffee Morning dates
DESCRIPTION:
URL:https://www.st-joanofarc.islington.sch.uk/event/school-closes-for-easter-holiday-at-1-30pm-there-is-no-extended-school-provision-parent-sen-coffee-morning-dates/
CATEGORIES:Nursery,Parents,Reception,Year 1,Year 2,Year 3,Year 4,Year 5,Year 6
END:VEVENT
END:VCALENDAR