BEGIN:VCALENDAR
VERSION:2.0
PRODID:-//St Joan of Arc Roman Catholic Primary School - ECPv6.15.14//NONSGML v1.0//EN
CALSCALE:GREGORIAN
METHOD:PUBLISH
X-WR-CALNAME:St Joan of Arc Roman Catholic Primary School
X-ORIGINAL-URL:https://www.st-joanofarc.islington.sch.uk
X-WR-CALDESC:Events for St Joan of Arc Roman Catholic Primary School
REFRESH-INTERVAL;VALUE=DURATION:PT1H
X-Robots-Tag:noindex
X-PUBLISHED-TTL:PT1H
BEGIN:VTIMEZONE
TZID:Europe/London
BEGIN:DAYLIGHT
TZOFFSETFROM:+0000
TZOFFSETTO:+0100
TZNAME:BST
DTSTART:20220327T010000
END:DAYLIGHT
BEGIN:STANDARD
TZOFFSETFROM:+0100
TZOFFSETTO:+0000
TZNAME:GMT
DTSTART:20221030T010000
END:STANDARD
BEGIN:DAYLIGHT
TZOFFSETFROM:+0000
TZOFFSETTO:+0100
TZNAME:BST
DTSTART:20230326T010000
END:DAYLIGHT
BEGIN:STANDARD
TZOFFSETFROM:+0100
TZOFFSETTO:+0000
TZNAME:GMT
DTSTART:20231029T010000
END:STANDARD
BEGIN:DAYLIGHT
TZOFFSETFROM:+0000
TZOFFSETTO:+0100
TZNAME:BST
DTSTART:20240331T010000
END:DAYLIGHT
BEGIN:STANDARD
TZOFFSETFROM:+0100
TZOFFSETTO:+0000
TZNAME:GMT
DTSTART:20241027T010000
END:STANDARD
END:VTIMEZONE
BEGIN:VEVENT
DTSTART;TZID=Europe/London:20230113T081500
DTEND;TZID=Europe/London:20230113T084500
DTSTAMP:20260421T091725
CREATED:20230112T120554Z
LAST-MODIFIED:20230112T120554Z
UID:10000023-1673597700-1673599500@www.st-joanofarc.islington.sch.uk
SUMMARY:Recycled Uniform Stall in Main Entrance
DESCRIPTION:
URL:https://www.st-joanofarc.islington.sch.uk/event/recycled-uniform-stall-in-main-entrance/
CATEGORIES:Nursery,Parents,Reception,Year 1,Year 2,Year 3,Year 4,Year 5,Year 6
END:VEVENT
BEGIN:VEVENT
DTSTART;VALUE=DATE:20230120
DTEND;VALUE=DATE:20230121
DTSTAMP:20260421T091725
CREATED:20221123T132313Z
LAST-MODIFIED:20221123T132313Z
UID:10000017-1674172800-1674259199@www.st-joanofarc.islington.sch.uk
SUMMARY:Year 5 & 6 Sportshall Athletics
DESCRIPTION:
URL:https://www.st-joanofarc.islington.sch.uk/event/year-5-6-sportshall-athletics/
CATEGORIES:Year 5,Year 6
END:VEVENT
BEGIN:VEVENT
DTSTART;TZID=Europe/London:20230120T083000
DTEND;TZID=Europe/London:20230120T093000
DTSTAMP:20260421T091725
CREATED:20230112T123126Z
LAST-MODIFIED:20230119T105920Z
UID:10000033-1674203400-1674207000@www.st-joanofarc.islington.sch.uk
SUMMARY:SEN Coffee Morning - SALT School’s Clinician Introduction
DESCRIPTION:
URL:https://www.st-joanofarc.islington.sch.uk/event/sen-coffee-morning-salt-schools-clinician-introduction/
CATEGORIES:Nursery,Parents,Reception,Year 1,Year 2,Year 3,Year 4,Year 5,Year 6
END:VEVENT
END:VCALENDAR